BEGIN:VCALENDAR
VERSION:2.0
PRODID:-//eventon.com NONSGML v1.0//EN
CALSCALE:GREGORIAN
METHOD:PUBLISH
BEGIN:VEVENT
UID:69e8b9d667472
DTSTAMP:20260422T120646Z
DTSTART:20260425T060000Z
DTEND:20260425T130000Z
LOCATION:Hipódromo Sant Jordi Carrer Montnegre\,  25\,  11\,  07817 Sant Josep de sa Talaia\,  Illes Balears
SUMMARY:Mercadillo de Sant Jordi
DESCRIPTION:Mercadillo de Sant Jordi\nhttps://eventos.diariodeibiza.es/even
 ts/mercadillo-sant-jordi/var/ri-66.l-L1
URL:https://eventos.diariodeibiza.es/events/mercadillo-sant-jordi/var/ri-66.l-L1
END:VEVENT
END:VCALENDAR